BEGIN:VCALENDAR
VERSION:2.0
PRODID:-//Trailkeeper.org | Hiking in New York | Sullivan County Catskills - ECPv6.6.4.2//NONSGML v1.0//EN
CALSCALE:GREGORIAN
METHOD:PUBLISH
X-WR-CALNAME:Trailkeeper.org | Hiking in New York | Sullivan County Catskills
X-ORIGINAL-URL:https://trailkeeper.org
X-WR-CALDESC:Events for Trailkeeper.org | Hiking in New York | Sullivan County Catskills
REFRESH-INTERVAL;VALUE=DURATION:PT1H
X-Robots-Tag:noindex
X-PUBLISHED-TTL:PT1H
BEGIN:VTIMEZONE
TZID:America/Halifax
BEGIN:DAYLIGHT
TZOFFSETFROM:-0400
TZOFFSETTO:-0300
TZNAME:ADT
DTSTART:20180311T060000
END:DAYLIGHT
BEGIN:STANDARD
TZOFFSETFROM:-0300
TZOFFSETTO:-0400
TZNAME:AST
DTSTART:20181104T050000
END:STANDARD
END:VTIMEZONE
BEGIN:VEVENT
DTSTART;TZID=America/Halifax:20180402T190000
DTEND;TZID=America/Halifax:20180402T220000
DTSTAMP:20260419T132946
CREATED:20180329T123856Z
LAST-MODIFIED:20180329T123856Z
UID:6425-1522695600-1522706400@trailkeeper.org
SUMMARY:Mom's Meatloaf Movie Mondays: Mildred Pierce (1945)
DESCRIPTION:Watch willful Joan Crawford in her Academy Award-winning role in the classic film noir-meets-melodrama of mother love and murder.  \nEach Monday\, Henning’s Local screens favorite films about mothers\, from unforgettable evil villains to classic characters who stole our hearts. Our regular menu is offered along with a prix-fixe meatloaf dinner. Bring mom\, and her dinner’s on Henning. Dinner 5-10pm / Movie 7pm. Complete list through May on our website.
URL:https://trailkeeper.org/event/moms-meatloaf-movie-mondays-mildred-pierce-1945/
ATTACH;FMTTYPE=image/jpeg:https://trailkeeper.org/wp-content/uploads/2018/03/facebook_event_1647879395265500.jpg
END:VEVENT
BEGIN:VEVENT
DTSTART;TZID=America/Halifax:20180401T140000
DTEND;TZID=America/Halifax:20180401T210000
DTSTAMP:20260419T132946
CREATED:20180324T163703Z
LAST-MODIFIED:20180324T163703Z
UID:6377-1522591200-1522616400@trailkeeper.org
SUMMARY:Serving Dinner Easter Sunday
DESCRIPTION:We will be serving dinner on Easter Sunday from 2-9\nCall (607) 498-4240 to make reservations
URL:https://trailkeeper.org/event/serving-dinner-easter-sunday/
ATTACH;FMTTYPE=image/jpeg:https://trailkeeper.org/wp-content/uploads/2018/03/facebook_event_819276974910995.jpg
END:VEVENT
BEGIN:VEVENT
DTSTART;TZID=America/Halifax:20180401T130000
DTEND;TZID=America/Halifax:20180401T160000
DTSTAMP:20260419T132946
CREATED:20180309T133638Z
LAST-MODIFIED:20180309T133638Z
UID:6228-1522587600-1522598400@trailkeeper.org
SUMMARY:Children's Easter Egg Hunt
DESCRIPTION:It’s Easter Egg Hunt time for the kids!  The Easter Bunny will be ready to have his picture taken with you (the proceeds goes to St Jude Children’s Hospital.)  Jan is returning with her furry and not so furry friends (and has exciting news about Precious -her hairless cat).  And dont forget the  face painting.  Hope to see you there….
URL:https://trailkeeper.org/event/childrens-easter-egg-hunt/
ATTACH;FMTTYPE=image/jpeg:https://trailkeeper.org/wp-content/uploads/2018/03/facebook_event_2078386199074034.jpg
END:VEVENT
BEGIN:VEVENT
DTSTART;TZID=America/Halifax:20180401T103000
DTEND;TZID=America/Halifax:20180401T153000
DTSTAMP:20260419T132946
CREATED:20180305T163720Z
LAST-MODIFIED:20180305T163720Z
UID:6200-1522578600-1522596600@trailkeeper.org
SUMMARY:Easter Sunday Brunch
DESCRIPTION:Reservations Required \nPlease call 845-733-4561 to reserve your table.
URL:https://trailkeeper.org/event/easter-sunday-brunch-3/
ATTACH;FMTTYPE=image/jpeg:https://trailkeeper.org/wp-content/uploads/2018/03/facebook_event_154176685282024.jpg
END:VEVENT
BEGIN:VEVENT
DTSTART;TZID=America/Halifax:20180401T080000
DTEND;TZID=America/Halifax:20180401T110000
DTSTAMP:20260419T132946
CREATED:20180116T174315Z
LAST-MODIFIED:20180116T174315Z
UID:5873-1522569600-1522580400@trailkeeper.org
SUMMARY:TROUT fishing Opening Day at Junction Pool\, right next to motel
DESCRIPTION:NY opens for Trout Fishing on April 1st and celebrates the Junction pool which is located right next to the motel.  \nBook your room for April 1st.
URL:https://trailkeeper.org/event/trout-fishing-opening-day-at-junction-pool-right-next-to-motel/
ATTACH;FMTTYPE=image/jpeg:https://trailkeeper.org/wp-content/uploads/2018/01/facebook_event_139653723381606.jpg
END:VEVENT
BEGIN:VEVENT
DTSTART;TZID=America/Halifax:20180331T210000
DTEND;TZID=America/Halifax:20180331T230000
DTSTAMP:20260419T132946
CREATED:20180220T133705Z
LAST-MODIFIED:20180220T133705Z
UID:6090-1522530000-1522537200@trailkeeper.org
SUMMARY:Karabas Barabas
DESCRIPTION:Irreverent? See if you can find the reverend and ask him. Hint-they tied him up in a trunk and wrote a rockin’good song about it! These guys are a scary blast of fire and passionate acceleration!!!
URL:https://trailkeeper.org/event/karabas-barabas-3/
ATTACH;FMTTYPE=image/jpeg:https://trailkeeper.org/wp-content/uploads/2018/02/facebook_event_398576250590410.jpg
END:VEVENT
BEGIN:VEVENT
DTSTART;TZID=America/Halifax:20180331T190000
DTEND;TZID=America/Halifax:20180331T210000
DTSTAMP:20260419T132946
CREATED:20180319T143719Z
LAST-MODIFIED:20180319T143719Z
UID:6346-1522522800-1522530000@trailkeeper.org
SUMMARY:NFS at Cabernet Frank's
DESCRIPTION:NFS is an ever changing and evolving improvisational band of Livingston Manor artists that come together in the spirit and with the vision of unrestrained spontaneous collective composition and experimentation.  \nFreely exploring meshing and clashing elements of electronica\, garage\, noise\, rock\, jazz\, dada\, performance art\, and spoken word by utilizing a wide variety of whatever conventional and unorthodox instruments or objects which present themselves\, NFS’ music intuitively coalesces in a sonic catharsis which they hope to share with you at this performance.
URL:https://trailkeeper.org/event/nfs-at-cabernet-franks/
ATTACH;FMTTYPE=image/jpeg:https://trailkeeper.org/wp-content/uploads/2018/03/facebook_event_220981338480481.jpg
END:VEVENT
BEGIN:VEVENT
DTSTART;TZID=America/Halifax:20180331T180000
DTEND;TZID=America/Halifax:20180331T210000
DTSTAMP:20260419T132946
CREATED:20180305T163718Z
LAST-MODIFIED:20180305T163718Z
UID:6198-1522519200-1522530000@trailkeeper.org
SUMMARY:Kurt Henry Band at Pickled Owl
DESCRIPTION:The Kurt Henry Band returns to The Pickled Owl. Join us: Kurt Henry\, Cheryl Lambert\, Alan Groth\, and Eric Parker.
URL:https://trailkeeper.org/event/kurt-henry-band-at-pickled-owl/
ATTACH;FMTTYPE=image/jpeg:https://trailkeeper.org/wp-content/uploads/2018/03/facebook_event_216265949113675.jpg
END:VEVENT
BEGIN:VEVENT
DTSTART;TZID=America/Halifax:20180331T130000
DTEND;TZID=America/Halifax:20180331T150000
DTSTAMP:20260419T132946
CREATED:20180205T143635Z
LAST-MODIFIED:20180205T143635Z
UID:6012-1522501200-1522508400@trailkeeper.org
SUMMARY:Bethel Youth Egg Hunt and Party
DESCRIPTION:Bethel Youth up to age 10 hunt for prize-filled plastic eggs. Some eggs have special prizes. Coloring contest – all participants receive a prize. Refreshments
URL:https://trailkeeper.org/event/bethel-youth-egg-hunt-and-party/
ATTACH;FMTTYPE=image/jpeg:https://trailkeeper.org/wp-content/uploads/2018/02/facebook_event_1907569912640818.jpg
END:VEVENT
BEGIN:VEVENT
DTSTART;TZID=America/Halifax:20180330T203000
DTEND;TZID=America/Halifax:20180330T233000
DTSTAMP:20260419T132946
CREATED:20180326T153657Z
LAST-MODIFIED:20180326T153657Z
UID:6409-1522441800-1522452600@trailkeeper.org
SUMMARY:Get Your Irish Back On!
DESCRIPTION:This is the rescheduled March 2nd date so get your Irish back on and celebrate one last time St. Patrick’s month!
URL:https://trailkeeper.org/event/get-your-irish-back-on/
ATTACH;FMTTYPE=image/jpeg:https://trailkeeper.org/wp-content/uploads/2018/03/facebook_event_200149680580185.jpg
END:VEVENT
BEGIN:VEVENT
DTSTART;TZID=America/Halifax:20180330T193000
DTEND;TZID=America/Halifax:20180408T194900
DTSTAMP:20260419T132946
CREATED:20180322T013629Z
LAST-MODIFIED:20180322T013629Z
UID:6362-1522438200-1523216940@trailkeeper.org
SUMMARY:Film Screening - A Wrinkle In Time
DESCRIPTION:Meg Murry and her little brother\, Charles Wallace\, have been without their scientist father\, Mr. Murry\, for five years\, ever since he discovered a new planet and used the concept known as a tesseract to travel there. Joined by Meg’s classmate Calvin O’Keefe and guided by the three mysterious astral travelers known as Mrs. Whatsit\, Mrs. Who and Mrs. Which\, the children brave a dangerous journey to a planet that possesses all of the evil in the universe.
URL:https://trailkeeper.org/event/film-screening-a-wrinkle-in-time/
ATTACH;FMTTYPE=image/jpeg:https://trailkeeper.org/wp-content/uploads/2018/03/facebook_event_188213001788339.jpg
END:VEVENT
BEGIN:VEVENT
DTSTART;TZID=America/Halifax:20180330T193000
DTEND;TZID=America/Halifax:20180330T193000
DTSTAMP:20260419T132946
CREATED:20180312T133740Z
LAST-MODIFIED:20180312T133740Z
UID:6270-1522438200-1522438200@trailkeeper.org
SUMMARY:Lion Zen
DESCRIPTION:Lions with manes of glory\, these cats live it\, love it and serve it-classic rock\, ecstatic dead\, and boogie-woogie!
URL:https://trailkeeper.org/event/lion-zen-3/
ATTACH;FMTTYPE=image/jpeg:https://trailkeeper.org/wp-content/uploads/2018/03/facebook_event_2017314055173533.jpg
END:VEVENT
BEGIN:VEVENT
DTSTART;TZID=America/Halifax:20180330T170000
DTEND;TZID=America/Halifax:20180330T210000
DTSTAMP:20260419T132946
CREATED:20180328T163634Z
LAST-MODIFIED:20180328T163634Z
UID:6421-1522429200-1522443600@trailkeeper.org
SUMMARY:Happier Hours with Brad Collins Band!
DESCRIPTION:Join us every Friday night starting at 5pm for HAPPIER Hours featuring live music! This week we have Special Guest- Brad Collins Band! There will be $3 pints from 5-6pm and $4 pints 6-9pm\, plus we will be featuring Bashakill Vineyards wine and cider from Awestruck Ciders! So grab some friends and come down to the brewery for night of fun\, music kicks off at 5PM!
URL:https://trailkeeper.org/event/happier-hours-with-brad-collins-band-3/
ATTACH;FMTTYPE=image/jpeg:https://trailkeeper.org/wp-content/uploads/2018/03/facebook_event_206699166758529.jpg
END:VEVENT
BEGIN:VEVENT
DTSTART;TZID=America/Halifax:20180329T190000
DTEND;TZID=America/Halifax:20180329T190000
DTSTAMP:20260419T132946
CREATED:20180310T003647Z
LAST-MODIFIED:20180310T003647Z
UID:6236-1522350000-1522350000@trailkeeper.org
SUMMARY:Open Mic with Paul Kean and Friends
DESCRIPTION:Paul Kean and Friends hold down Open Mic! Come sit in or play your own set!
URL:https://trailkeeper.org/event/open-mic-with-paul-kean-and-friends/
ATTACH;FMTTYPE=image/jpeg:https://trailkeeper.org/wp-content/uploads/2018/03/facebook_event_173913749898022.jpg
END:VEVENT
BEGIN:VEVENT
DTSTART;TZID=America/Halifax:20180328T180000
DTEND;TZID=America/Halifax:20180328T210000
DTSTAMP:20260419T132946
CREATED:20180316T133645Z
LAST-MODIFIED:20180316T133645Z
UID:6330-1522260000-1522270800@trailkeeper.org
SUMMARY:Laundrette Quiz Nite
DESCRIPTION:HARVARD IN THE HOUSE! BRUSH UP!
URL:https://trailkeeper.org/event/laundrette-quiz-nite-6/
ATTACH;FMTTYPE=image/jpeg:https://trailkeeper.org/wp-content/uploads/2018/03/facebook_event_986485738170601.jpg
END:VEVENT
BEGIN:VEVENT
DTSTART;TZID=America/Halifax:20180328T170000
DTEND;TZID=America/Halifax:20180328T230000
DTSTAMP:20260419T132946
CREATED:20180116T174314Z
LAST-MODIFIED:20180116T174314Z
UID:5871-1522256400-1522278000@trailkeeper.org
SUMMARY:Cab'raoke Wednesdays!
DESCRIPTION:Cab’raoke like the whole world is watching – even if it is only the bar filled with all your new besties. Cab’raoke for your life – as if Ru Paul was watching – even if it is just Cabernet Frank who hosts this wacky\, fun night of Cab’raoke!
URL:https://trailkeeper.org/event/cabraoke-wednesdays-21/
ATTACH;FMTTYPE=image/jpeg:https://trailkeeper.org/wp-content/uploads/2018/01/facebook_event_1251523241613766.jpg
END:VEVENT
BEGIN:VEVENT
DTSTART;TZID=America/Halifax:20180326T190000
DTEND;TZID=America/Halifax:20180326T220000
DTSTAMP:20260419T132946
CREATED:20180321T003622Z
LAST-MODIFIED:20180321T003622Z
UID:6358-1522090800-1522101600@trailkeeper.org
SUMMARY:Mom's Meatloaf Movie Mondays: Terms of Endearment (1983)
DESCRIPTION:Winner of 5 Academy Awards\, this beloved\, funny\, and dramatic tear-jerker covers 30 years of the complicated relationship between the devoted and possessive Aurora (Shirley MacLaine) and her stubborn and rebellious daughter Emma (Debra Winger)\, both searching for love. Emma’s marriage to Flap (Jeff Daniels) crumbles\, while widowed Aurora finally falls for the womanizing and boozy Garrett (Jack Nicholson)\, a retired astronaut living next door. Bittersweet\, the relationship between Emma and Aurora comes full circle when Emma is diagnosed with terminal cancer. Stellar performances by all.
URL:https://trailkeeper.org/event/moms-meatloaf-movie-mondays-terms-of-endearment-1983/
ATTACH;FMTTYPE=image/jpeg:https://trailkeeper.org/wp-content/uploads/2018/03/facebook_event_969589246524894.jpg
END:VEVENT
BEGIN:VEVENT
DTSTART;TZID=America/Halifax:20180326T094500
DTEND;TZID=America/Halifax:20180330T123000
DTSTAMP:20260419T132946
CREATED:20180312T133739Z
LAST-MODIFIED:20180312T133739Z
UID:6268-1522057500-1522413000@trailkeeper.org
SUMMARY:CAS Kids Spring Break Art Classes
DESCRIPTION:We’ve expanded the offerings and developed a very exciting curriculum for this coming season\, in which children will exercise creativity and innovative storytelling through visual and performing arts.  It’s free\, and children are not required to commit to the entire week session\, but we ask parents to notify us if their children are participating.  Please call 845- 439-4227 or email info@catskillartsociety.org. \nMade possible through generous support of Fullen-Smith Foundation and Robyn Gerry.
URL:https://trailkeeper.org/event/cas-kids-spring-break-art-classes/
ATTACH;FMTTYPE=image/jpeg:https://trailkeeper.org/wp-content/uploads/2018/03/facebook_event_2040998419449692.jpg
END:VEVENT
BEGIN:VEVENT
DTSTART;TZID=America/Halifax:20180325T130000
DTEND;TZID=America/Halifax:20180325T140000
DTSTAMP:20260419T132946
CREATED:20180314T193629Z
LAST-MODIFIED:20180314T193629Z
UID:6324-1521982800-1521986400@trailkeeper.org
SUMMARY:Easter Egg Hunt with the Easter Bunny!
DESCRIPTION:…Hippitty Hoppitty Easters’ on its way!….\nJoin us on Sunday March 25 at the playground (on the flats) for an Egg Hunt with the Easter Bunny!\nPlease bring a basket to collect your eggs! *Dress for snow!*\nWe will have a hot cocoa and some yummy goodies for all to enjoy!
URL:https://trailkeeper.org/event/easter-egg-hunt-with-the-easter-bunny/
ATTACH;FMTTYPE=image/jpeg:https://trailkeeper.org/wp-content/uploads/2018/03/facebook_event_150168228984771.jpg
END:VEVENT
BEGIN:VEVENT
DTSTART;TZID=America/Halifax:20180325T090000
DTEND;TZID=America/Halifax:20180401T130000
DTSTAMP:20260419T132946
CREATED:20180319T203748Z
LAST-MODIFIED:20180319T203748Z
UID:6352-1521968400-1522587600@trailkeeper.org
SUMMARY:Breakfast with the Easter Bunny!
DESCRIPTION:Enjoy breakfast with the Easter Bunny!\nMarch 25th and April 1st from 9:00am to 1:00pm. \n$14.95 for adults\n$7.95 for kids \nPlease call for reservations (845) 456-0195
URL:https://trailkeeper.org/event/breakfast-with-the-easter-bunny/
ATTACH;FMTTYPE=image/jpeg:https://trailkeeper.org/wp-content/uploads/2018/03/facebook_event_169151990404052.jpg
END:VEVENT
BEGIN:VEVENT
DTSTART;TZID=America/Halifax:20180325T070000
DTEND;TZID=America/Halifax:20180325T120000
DTSTAMP:20260419T132946
CREATED:20180319T133703Z
LAST-MODIFIED:20180319T133703Z
UID:6338-1521961200-1521979200@trailkeeper.org
SUMMARY:All You Can Eat Pancake Breakfast
DESCRIPTION:Serving 7:00 until 12 Noon\nAdults: $9\nChildren Ages 5-11: $5\nUnder 5 Yrs. Free \n$50 from the Breakfast\nIs Donated to the\nClaryville Reformed Church\nFood Pantry \nWe will have the Easter Bunny!! Bring your kids and your cameras!!
URL:https://trailkeeper.org/event/all-you-can-eat-pancake-breakfast/
ATTACH;FMTTYPE=image/jpeg:https://trailkeeper.org/wp-content/uploads/2018/03/facebook_event_158903788153606.jpg
END:VEVENT
BEGIN:VEVENT
DTSTART;TZID=America/Halifax:20180324T200000
DTEND;TZID=America/Halifax:20180324T230000
DTSTAMP:20260419T132946
CREATED:20180319T133702Z
LAST-MODIFIED:20180319T133702Z
UID:6336-1521921600-1521932400@trailkeeper.org
SUMMARY:Joan Osborne Sings the Songs of Bob Dylan
DESCRIPTION:Joan Osborne Sings the Songs of Bob Dylan
URL:https://trailkeeper.org/event/joan-osborne-sings-the-songs-of-bob-dylan-2/
ATTACH;FMTTYPE=image/jpeg:https://trailkeeper.org/wp-content/uploads/2018/03/facebook_event_202357820341981.jpg
END:VEVENT
BEGIN:VEVENT
DTSTART;TZID=America/Halifax:20180324T193000
DTEND;TZID=America/Halifax:20180324T193000
DTSTAMP:20260419T132946
CREATED:20180309T013654Z
LAST-MODIFIED:20180309T013654Z
UID:6224-1521919800-1521919800@trailkeeper.org
SUMMARY:Sam Morrison and T Xiques Jazzitorium
DESCRIPTION:World Class Jazz/World Beat musicians Sam and T take you to the next level. What prize awaits when the elevator opens?
URL:https://trailkeeper.org/event/sam-morrison-and-t-xiques-jazzitorium/
ATTACH;FMTTYPE=image/jpeg:https://trailkeeper.org/wp-content/uploads/2018/03/facebook_event_184519502329160.jpg
END:VEVENT
BEGIN:VEVENT
DTSTART;TZID=America/Halifax:20180324T190000
DTEND;TZID=America/Halifax:20180324T210000
DTSTAMP:20260419T132946
CREATED:20180312T133738Z
LAST-MODIFIED:20180312T133738Z
UID:6266-1521918000-1521925200@trailkeeper.org
SUMMARY:Sip And Paint
DESCRIPTION:Hey Everyone! We will be hosting another Sip and Paint at Catskill Mountain Resort in the terrace room on Saturday March 24th from 7pm to 9pm! This class is $35 per person. We have 30 spaces available for this class! You bring yourself and we supply you with a canvas\, paint and brushes. Food and Beverages\, alcoholic and non\, will be available for purchase at Catskill Mountain Resort! Please like and share our page! The link to pay for the class is in the about section on our page! When paying for the class please use your full name as well as all who are in your group! Thank you and we are looking forward to a fun and exciting class! You MUST RSVP to reserve your supplies!!!!!  \nhttps://www.facebook.com/Crazy-Creations-Sip-and-Paint-795679533966241/ \nPaypal.me/brianasobolewski
URL:https://trailkeeper.org/event/sip-and-paint/
ATTACH;FMTTYPE=image/jpeg:https://trailkeeper.org/wp-content/uploads/2018/03/facebook_event_229910110888194.jpg
END:VEVENT
BEGIN:VEVENT
DTSTART;TZID=America/Halifax:20180324T150000
DTEND;TZID=America/Halifax:20180324T180000
DTSTAMP:20260419T132946
CREATED:20180312T133737Z
LAST-MODIFIED:20180312T133737Z
UID:6264-1521903600-1521914400@trailkeeper.org
SUMMARY:David Kraai at Roscoe Beer Co.
DESCRIPTION:David Kraai swings by this excellent brewery’s tasting room to dole out two sets of fine country folk music!  Good times and tasty brew will be going down\, so be sure to mosey on over and join in the hootenanny…
URL:https://trailkeeper.org/event/david-kraai-at-roscoe-beer-co/
ATTACH;FMTTYPE=image/jpeg:https://trailkeeper.org/wp-content/uploads/2018/03/facebook_event_1580107108705376.jpg
END:VEVENT
BEGIN:VEVENT
DTSTART;TZID=America/Halifax:20180324T140000
DTEND;TZID=America/Halifax:20180324T160000
DTSTAMP:20260419T132946
CREATED:20180109T193655Z
LAST-MODIFIED:20180109T193655Z
UID:5799-1521900000-1521907200@trailkeeper.org
SUMMARY:Big Eddy Selects: Winter Film Screening
DESCRIPTION:“Any girl can be glamorous\,” Hollywood siren Hedy Lamarr once said. “All you have to do is stand still and look stupid.” \nBut stupid she wasn’t. The new film “BOMBSHELL: The Hedy Lamarr Story” explores the complex journey of a woman who was much more than her beauty. A genius inventor\, Lamarr is now credited with discovering the technology that makes modern WiFi possible. \nThe film\, directed by Alexandra Dean\, will be screened on Saturday\, March 24 at 2 pm at Delaware Valley Arts Alliance\, 37 Main Street\, Narrowsburg as part of the DVAA’s winter Salon Series. \nAdmission is free\, and donations are appreciated. Seating is limited and available on a first-come\, first-serve basis.  \nThe activities of the Delaware Valley Arts Alliance are made possible in part by a grant from the New York State Council on the Arts with the support of Governor Andrew Cuomo and the New York State Legislature. More information is available at delawarevalleyartsalliance.org.
URL:https://trailkeeper.org/event/big-eddy-selects-winter-film-screening/
ATTACH;FMTTYPE=image/jpeg:https://trailkeeper.org/wp-content/uploads/2018/01/facebook_event_330313367464880.jpg
END:VEVENT
BEGIN:VEVENT
DTSTART;TZID=America/Halifax:20180324T130000
DTEND;TZID=America/Halifax:20180324T160000
DTSTAMP:20260419T132946
CREATED:20180312T133735Z
LAST-MODIFIED:20180312T133735Z
UID:6262-1521896400-1521907200@trailkeeper.org
SUMMARY:Members Meeting and Reception
DESCRIPTION:At CAS Arts Center\, 48 Main Street\, Livingston Manor\nMarch 24 – April 14 \nArtists Talk and Opening Reception\nSaturday\, March 24\, 2018 \nMembers Meeting 1pm\nOpening Reception 2-4pm
URL:https://trailkeeper.org/event/members-meeting-and-reception/
ATTACH;FMTTYPE=image/jpeg:https://trailkeeper.org/wp-content/uploads/2018/03/facebook_event_183525872256692.jpg
END:VEVENT
BEGIN:VEVENT
DTSTART;TZID=America/Halifax:20180324T103000
DTEND;TZID=America/Halifax:20180324T133000
DTSTAMP:20260419T132946
CREATED:20180312T133734Z
LAST-MODIFIED:20180312T133734Z
UID:6260-1521887400-1521898200@trailkeeper.org
SUMMARY:Easter Egg Hunt & Photos With the Easter Bunny
DESCRIPTION:Photos with the Easter Bunny kick off at 10:30 a.m. (a small donation will benefit the Youth Center)\, with the egg hunt kicking off promptly at 11 a.m. Open to Callicoon-area children.
URL:https://trailkeeper.org/event/easter-egg-hunt-photos-with-the-easter-bunny/
ATTACH;FMTTYPE=image/jpeg:https://trailkeeper.org/wp-content/uploads/2018/03/facebook_event_2053325048246222.jpg
END:VEVENT
BEGIN:VEVENT
DTSTART;TZID=America/Halifax:20180323T210000
DTEND;TZID=America/Halifax:20180324T010000
DTSTAMP:20260419T132946
CREATED:20180322T173811Z
LAST-MODIFIED:20180322T173811Z
UID:6367-1521838800-1521853200@trailkeeper.org
SUMMARY:Dance Party at Oscar Brown's
DESCRIPTION:Come out this Friday night to our always fun Dance Party hosted by DJ Nick! Drink Specials all night! Bring your friends and have a great time dancing to music\, hanging out at our full service bar\, or just relax by the fire on one of our sofa’s.  \nThe party starts at 9pm\, $5 cover.
URL:https://trailkeeper.org/event/dance-party-at-oscar-browns/
ATTACH;FMTTYPE=image/jpeg:https://trailkeeper.org/wp-content/uploads/2018/03/facebook_event_1947686335546118.jpg
END:VEVENT
BEGIN:VEVENT
DTSTART;TZID=America/Halifax:20180323T190000
DTEND;TZID=America/Halifax:20180323T230000
DTSTAMP:20260419T132946
CREATED:20180226T133723Z
LAST-MODIFIED:20180226T133723Z
UID:6156-1521831600-1521846000@trailkeeper.org
SUMMARY:Captain Magic at Cabernet Frank's
DESCRIPTION:Back at Cabernet Frank’s for a fun filled evening with Captain Magic\nLet’s see if we can bring in special guests to join us on stage again.
URL:https://trailkeeper.org/event/captain-magic-at-cabernet-franks/
ATTACH;FMTTYPE=image/jpeg:https://trailkeeper.org/wp-content/uploads/2018/02/facebook_event_153750158673467.jpg
END:VEVENT
END:VCALENDAR