BEGIN:VCALENDAR
VERSION:2.0
PRODID:-//Trailkeeper.org | Hiking in New York | Sullivan County Catskills - ECPv6.6.4.2//NONSGML v1.0//EN
CALSCALE:GREGORIAN
METHOD:PUBLISH
X-WR-CALNAME:Trailkeeper.org | Hiking in New York | Sullivan County Catskills
X-ORIGINAL-URL:https://trailkeeper.org
X-WR-CALDESC:Events for Trailkeeper.org | Hiking in New York | Sullivan County Catskills
REFRESH-INTERVAL;VALUE=DURATION:PT1H
X-Robots-Tag:noindex
X-PUBLISHED-TTL:PT1H
BEGIN:VTIMEZONE
TZID:America/New_York
BEGIN:DAYLIGHT
TZOFFSETFROM:-0500
TZOFFSETTO:-0400
TZNAME:EDT
DTSTART:20180311T070000
END:DAYLIGHT
BEGIN:STANDARD
TZOFFSETFROM:-0400
TZOFFSETTO:-0500
TZNAME:EST
DTSTART:20181104T060000
END:STANDARD
END:VTIMEZONE
BEGIN:VEVENT
DTSTART;TZID=America/New_York:20180210T120000
DTEND;TZID=America/New_York:20180210T170000
DTSTAMP:20260424T115250
CREATED:20180119T003706Z
LAST-MODIFIED:20180119T003706Z
UID:5906-1518264000-1518282000@trailkeeper.org
SUMMARY:Valentine Saturday
DESCRIPTION:Event: Valentine Saturday\n      Saturday Feb. 10\,2018\n            Readings from 12 pm to 5pm\nCome joins Us and get your Love Tarot card readings .\nRose Freeman  Psychic tarot cards\nLillian Ayala   Angel Cards\nWe will have a 20% off sale on select items going on.\nWhat better way than to get your Love readings and shop local at the same time . \nCost : $25.00 for 25 minutes\nBookings = Liberty Market 845- 707-1994 \n#valentinesday #terotcard #lovereading #libertymarket #shoplocal
URL:https://trailkeeper.org/event/valentine-saturday/
ATTACH;FMTTYPE=image/jpeg:https://trailkeeper.org/wp-content/uploads/2018/01/facebook_event_547799235583067.jpg
END:VEVENT
BEGIN:VEVENT
DTSTART;TZID=America/New_York:20180210T140000
DTEND;TZID=America/New_York:20180210T160000
DTSTAMP:20260424T115250
CREATED:20180205T143627Z
LAST-MODIFIED:20180205T143627Z
UID:5998-1518271200-1518278400@trailkeeper.org
SUMMARY:People\, Planet\, Politics: Gallery Opening
DESCRIPTION:People\, Planet\, Politics\nA group exhibition curated by Rocky Pinciotti\nwith Ellen Alt\, Mark Aubrey\, Ronald Gonzalez\, Edith Gould\, Thierry Gourjon\, Laurie A. Guzda\, Jonathan Hyman\, Theodora Johnson\, William Landau\, Glenn Lieberman\, Peter Kopher\, Patricio Robayo\, Mike Trovato \nOn display February 10 – March 31\, 2018\nOpening reception: Saturday\, February 10\, 2 – 4 pm\nArtist talk & panel discussion: Saturday\, March 10\, 2 – 4 pm \nDelaware Valley Arts Alliance\n37 Main Street\, Narrowsburg\, NY \nGallery hours: Tuesday – Saturday\, 10 am – 5 pm \nImage credit: Jonathan Hyman (top image) and Theodora Johnson (bottom image)
URL:https://trailkeeper.org/event/people-planet-politics-gallery-opening/
ATTACH;FMTTYPE=image/jpeg:https://trailkeeper.org/wp-content/uploads/2018/02/facebook_event_336173793534497.jpg
END:VEVENT
BEGIN:VEVENT
DTSTART;TZID=America/New_York:20180210T140000
DTEND;TZID=America/New_York:20180210T170000
DTSTAMP:20260424T115250
CREATED:20180208T193802Z
LAST-MODIFIED:20180208T193802Z
UID:6032-1518271200-1518282000@trailkeeper.org
SUMMARY:Fastnacht at the Clair Inn and Cafe
DESCRIPTION:You’ve done Mardi Gras\, now experience Fastnacht! \nWhat’s Fastnacht\, you ask? Fastnacht Day is an annual Pennsylvania Dutch celebration that falls on Shrove Tuesday\, the day before Ash Wednesday. The word translates to “Fast Night” in English. The tradition is to eat the very best foods\, which are part of the German tradition\, and lots of it\, before the Lenten fast.  \nFastnachts (pronounced fos-nok s in German) are doughnuts\, made with potatoes and yeast. All are slightly crispy on the outside and not as sweet as standard doughnuts. \nOK\, sounds fun. Do I have to go to Germany? \nNope—just show up at Clair Inn in Youngsville on Saturday\, February 10th at 2pm with an appetite and $20. All you can eat German buffet\, courtesy of the gang at Clair Inn\, and fastnacht doughnuts courtesy of Sullivan County’s favorite Pennsylvania Dutch boy\, John Zimmerman. Of course\, you can’t eat German food without beer\, and a selection of interesting brews will be available along with the standard bar fare\, so join us at this zammelaaf (gathering) and kumme esse (come eat) some hinkelwelschkann-nudel supp (chicken corn noodle soup) and other tasty dishes in the baerschtubb (bar room) and by the time you leave\, you’ll be fluent in the mutersproch (mother language)! \nThe Clair Inn will be opening its restaurant exclusively for us for this event\, and a portion of the proceeds will go to Catskills Pride’s Sheldon Soffer Scholarship in Music and Arts Fund. What’s not to like? Good food and a good cause! \nMer hoffe mer sehn eich datt! (We hope we see you there!)
URL:https://trailkeeper.org/event/fastnacht-at-the-clair-inn-and-cafe/
ATTACH;FMTTYPE=image/jpeg:https://trailkeeper.org/wp-content/uploads/2018/02/facebook_event_1520213078091652.jpg
END:VEVENT
BEGIN:VEVENT
DTSTART;TZID=America/New_York:20180210T160000
DTEND;TZID=America/New_York:20180214T210000
DTSTAMP:20260424T115250
CREATED:20180123T133640Z
LAST-MODIFIED:20180123T133640Z
UID:5922-1518278400-1518642000@trailkeeper.org
SUMMARY:Valentine's Day Dinner
DESCRIPTION:VALENTINE’S DINNER SPECIAL *BE MINE* MENU\nFEBRUARY 10TH\, 11TH & 14TH\n4PM – 9PM \nIndulge in a romantic dinner by the fire with your loved one(s) at the Western Hotel\, located in Callicoon – New York. – $55/person \nWe plan to spread the love all week (10th\, 11th & 14th) so RSVP to hold your table today for any date listed between 4PM-9PM. \nIf you are interested in a private dining experience or have a larger party\, the parlor is the perfect option for you! – $100/person \nOut of town? Package deal includes one of our newly renovated suites with dinner – $150/night + $50/for dinner \nRSVP FOR ONE OF THE FOLLOWING OPTIONS\nFire-Side *BE MINE* Menu\n$55/Person \nPrivate Dining in Parlor w/ Pre-Fixe Menu\, Wine or Champagne\n$100/Person \nHoneymoon Package w/ newly renovated suites + dinner – $150/night + $50/person dinner reservations.   \n*BE MINE* PRE-FIXE MENU\nFIRST\nLobster Bisque  \nSECOND\nArugula & Apple Salad \nTHIRD\nFilet Mignon or Gulf Shrimp Risotto \nDESSERT\nCheese Cake w/ Raspberry glaze or Chocolate Mousse \nRSVP only for this special!  Please call or message us for reservations (845) 887-9871 or Private Message
URL:https://trailkeeper.org/event/valentines-day-dinner/
ATTACH;FMTTYPE=image/jpeg:https://trailkeeper.org/wp-content/uploads/2018/01/facebook_event_1881442142165950.jpg
END:VEVENT
BEGIN:VEVENT
DTSTART;TZID=America/New_York:20180210T180000
DTEND;TZID=America/New_York:20180210T210000
DTSTAMP:20260424T115250
CREATED:20180104T183707Z
LAST-MODIFIED:20180104T183707Z
UID:5761-1518285600-1518296400@trailkeeper.org
SUMMARY:Joey Vincent Valentine's Celebration
DESCRIPTION:Joey Vincent Valentine’s Celebration \nHello young (and young-at-heart) lovers: If you are looking for a special way to celebrate your special day\, let Joey Vincent be your guide to an evening of love and laughs. His unique blend of music\, comedy\, and impressions of you favorite romantic singers will make this Valentine’s Day one to remember! He does it all from Sinatra\, Martin and Bennett\, to Elvis\, Frankie Valli and Phantom. Joey Vincent will open your heart! \nTickets are $25.00 per person
URL:https://trailkeeper.org/event/joey-vincent-valentines-celebration/
ATTACH;FMTTYPE=image/jpeg:https://trailkeeper.org/wp-content/uploads/2018/01/facebook_event_1756762641020827.jpg
END:VEVENT
BEGIN:VEVENT
DTSTART;TZID=America/New_York:20180210T193000
DTEND;TZID=America/New_York:20180210T213000
DTSTAMP:20260424T115250
CREATED:20180116T174302Z
LAST-MODIFIED:20180116T174302Z
UID:5853-1518291000-1518298200@trailkeeper.org
SUMMARY:DeadPan Smile Live @ Brew In Rock Hill
DESCRIPTION:We will be returning to Rock Hill for another great night of music! Come join us\, the food is outstanding and the music is pretty good too!
URL:https://trailkeeper.org/event/deadpan-smile-live-brew-in-rock-hill/
ATTACH;FMTTYPE=image/jpeg:https://trailkeeper.org/wp-content/uploads/2018/01/facebook_event_1579708145452575.jpg
END:VEVENT
BEGIN:VEVENT
DTSTART;TZID=America/New_York:20180210T193000
DTEND;TZID=America/New_York:20180210T230000
DTSTAMP:20260424T115250
CREATED:20180125T173855Z
LAST-MODIFIED:20180125T173855Z
UID:5938-1518291000-1518303600@trailkeeper.org
SUMMARY:The BARN CAT'S AT the Bartender' S BALL
DESCRIPTION:The BARN CAT’S funk it up and lay it out and 15 NYC bartenders ascend for Kristen Leger’ s birthday party. A time will be had! Specials for all industry folks!
URL:https://trailkeeper.org/event/the-barn-cats-at-the-bartender-s-ball/
ATTACH;FMTTYPE=image/jpeg:https://trailkeeper.org/wp-content/uploads/2018/01/facebook_event_143574533108013.jpg
END:VEVENT
BEGIN:VEVENT
DTSTART;TZID=America/New_York:20180210T230000
DTEND;TZID=America/New_York:20180211T020000
DTSTAMP:20260424T115250
CREATED:20180129T143726Z
LAST-MODIFIED:20180129T143726Z
UID:5962-1518303600-1518314400@trailkeeper.org
SUMMARY:Opening Weekend at Resorts World Catskills!
DESCRIPTION:Come help us kick off the Grand Opening Weekend at the hottest new music venue in the Hudson Valley.
URL:https://trailkeeper.org/event/opening-weekend-at-resorts-world-catskills/
ATTACH;FMTTYPE=image/jpeg:https://trailkeeper.org/wp-content/uploads/2018/01/facebook_event_335660220251959.jpg
END:VEVENT
BEGIN:VEVENT
DTSTART;TZID=America/New_York:20180211T123000
DTEND;TZID=America/New_York:20180211T140000
DTSTAMP:20260424T115250
CREATED:20180206T183642Z
LAST-MODIFIED:20180206T183642Z
UID:6026-1518352200-1518357600@trailkeeper.org
SUMMARY:African Dance and Drum Workshop
DESCRIPTION:This upbeat energetic workshop taught by Ebonie Avant with live drum accompaniment will teach you the fundamentals of  West African Dance. \nParticipants will have the option to dance or learn basic drumming techniques. There are a limited amount of drums available. Spots will be filled on a first come basis.
URL:https://trailkeeper.org/event/african-dance-and-drum-workshop/
ATTACH;FMTTYPE=image/jpeg:https://trailkeeper.org/wp-content/uploads/2018/02/facebook_event_179614172652083.jpg
END:VEVENT
BEGIN:VEVENT
DTSTART;TZID=America/New_York:20180212T090000
DTEND;TZID=America/New_York:20180212T160000
DTSTAMP:20260424T115250
CREATED:20180208T213826Z
LAST-MODIFIED:20180208T213826Z
UID:6034-1518426000-1518451200@trailkeeper.org
SUMMARY:EPF Day 2018
DESCRIPTION:Join the Trail Conference for a day in Albany advocating for open space\, parks\, and trails. \nIn 2017\, Governor Andrew Cuomo appropriated $300 million for the Environmental Protection Fund (EPF)\, continuing the historic funding level he established for the EPF the previous year. The EPF has directly supported the Trail Conference by providing funding for the rehabilitation of trails on Bear Mountain\, including the original section of the Appalachian Trail\, as part of the iconic Bear Mountain Trails Project. It funds the Lower Hudson Partnership for Regional Invasive Species Management (PRISM)\, for which the Trail Conference serves as the host organization. The EPF is an annual avenue of support for Trail Conference projects\, including the important work of open space acquisition and preservation for our long-distance trails\, and we will ask representatives to back its full funding.  \nIf you love New York trails and parks\, this is a great opportunity to tell your representatives why they deserve to be protected. \nFor more information about the EPF\, including how the EPF has benefitted each county throughout the state\, visit keepprotectingny.com.
URL:https://trailkeeper.org/event/epf-day-2018/
ATTACH;FMTTYPE=image/jpeg:https://trailkeeper.org/wp-content/uploads/2018/02/facebook_event_406740889784534.jpg
END:VEVENT
BEGIN:VEVENT
DTSTART;TZID=America/New_York:20180212T190000
DTEND;TZID=America/New_York:20180212T220000
DTSTAMP:20260424T115250
CREATED:20180129T133912Z
LAST-MODIFIED:20180129T133912Z
UID:5950-1518462000-1518472800@trailkeeper.org
SUMMARY:Mom's Meatloaf Movie Mondays: Mommie Dearest (1981)
DESCRIPTION:Mommie Dearest (1981). Melodramatic biographical story of legendary actress Joan Crawford – embodied by Faye Dunaway in an over-the-top performance – told from the vantage point of her adoptive daughter. A campy cult classic. \nEach week Henning’s Local screens favorite films about mothers\, from the unforgettable evil villains to classic characters who stole our hearts. In addition to our regular menu\, we offer a prix-fixed meatloaf dinner\, plus blue-plate specials at the bar. Bring mom\, and her dinner is on Henning. Dinner 5-10pm / Movie 7pm
URL:https://trailkeeper.org/event/moms-meatloaf-movie-mondays-mommie-dearest-1981/
ATTACH;FMTTYPE=image/jpeg:https://trailkeeper.org/wp-content/uploads/2018/01/facebook_event_1859712414071149.jpg
END:VEVENT
BEGIN:VEVENT
DTSTART;TZID=America/New_York:20180214T160000
DTEND;TZID=America/New_York:20180214T210000
DTSTAMP:20260424T115250
CREATED:20180123T133641Z
LAST-MODIFIED:20180123T133641Z
UID:5924-1518624000-1518642000@trailkeeper.org
SUMMARY:Valentine's Day Dinner Special
DESCRIPTION:Why not do something special for your #Valentine? Have a romantic dinner for only $99 per couple.  \nEnjoy a cocktail party with free champagne\, hand passed apps\, aphrodisiac oyster bar\, Surf N Turf dinner\, mini dessert station\, and a cash bar.  \nCall BHR for Reservations Today. 845.796.3333
URL:https://trailkeeper.org/event/valentines-day-dinner-special/
ATTACH;FMTTYPE=image/jpeg:https://trailkeeper.org/wp-content/uploads/2018/01/facebook_event_896347293856911.jpg
END:VEVENT
BEGIN:VEVENT
DTSTART;TZID=America/New_York:20180214T170000
DTEND;TZID=America/New_York:20180214T210000
DTSTAMP:20260424T115250
CREATED:20180205T143628Z
LAST-MODIFIED:20180205T143628Z
UID:6000-1518627600-1518642000@trailkeeper.org
SUMMARY:Valentine's Day.
DESCRIPTION:We are serving dinner Valentine’s Day from 5-9. Call for reservations  (607) 498-4240
URL:https://trailkeeper.org/event/valentines-day/
ATTACH;FMTTYPE=image/jpeg:https://trailkeeper.org/wp-content/uploads/2018/02/facebook_event_191370201616575.jpg
END:VEVENT
BEGIN:VEVENT
DTSTART;TZID=America/New_York:20180214T170000
DTEND;TZID=America/New_York:20180214T220000
DTSTAMP:20260424T115250
CREATED:20180202T003659Z
LAST-MODIFIED:20180202T003659Z
UID:5980-1518627600-1518645600@trailkeeper.org
SUMMARY:Rolling River Valentine's Dinner
DESCRIPTION:Rolling River is reopening on February 14th with an extra special Valentine’s Day menu.\n*Reservations recommended*
URL:https://trailkeeper.org/event/rolling-river-valentines-dinner/
ATTACH;FMTTYPE=image/jpeg:https://trailkeeper.org/wp-content/uploads/2018/02/facebook_event_162448561051716.jpg
END:VEVENT
BEGIN:VEVENT
DTSTART;TZID=America/New_York:20180214T170000
DTEND;TZID=America/New_York:20180214T230000
DTSTAMP:20260424T115250
CREATED:20180116T174303Z
LAST-MODIFIED:20180116T174303Z
UID:5855-1518627600-1518649200@trailkeeper.org
SUMMARY:Cab'raoke Wednesdays
DESCRIPTION:Cab’raoke Wednesday is costume Karaoke!  You were born to be a rock star and a diva. Now is the time and Cabernet Frank’s is the place; come take the stage and shine on crazy diamond! Cabernet Frank hosts this funnest night.
URL:https://trailkeeper.org/event/cabraoke-wednesdays-19/
ATTACH;FMTTYPE=image/jpeg:https://trailkeeper.org/wp-content/uploads/2018/01/facebook_event_883856181791961.jpg
END:VEVENT
BEGIN:VEVENT
DTSTART;TZID=America/New_York:20180214T173000
DTEND;TZID=America/New_York:20180214T210000
DTSTAMP:20260424T115250
CREATED:20180129T203635Z
LAST-MODIFIED:20180129T203635Z
UID:5972-1518629400-1518642000@trailkeeper.org
SUMMARY:Valentine’s Day Dinner
DESCRIPTION:$42.50 per person plus 8% Tax and 18% Gratuity  \nCall 845-733-4561 to reserve your table 💞
URL:https://trailkeeper.org/event/valentines-day-dinner-2/
ATTACH;FMTTYPE=image/jpeg:https://trailkeeper.org/wp-content/uploads/2018/01/facebook_event_144761032862028.jpg
END:VEVENT
BEGIN:VEVENT
DTSTART;TZID=America/New_York:20180214T180000
DTEND;TZID=America/New_York:20180214T210000
DTSTAMP:20260424T115250
CREATED:20180213T133802Z
LAST-MODIFIED:20180213T133802Z
UID:6060-1518631200-1518642000@trailkeeper.org
SUMMARY:Valentine's Special! Quiz Nite at The Laundrette
DESCRIPTION:With hosts Robert Robinson and Joanie Santo…be ready!
URL:https://trailkeeper.org/event/valentines-special-quiz-nite-at-the-laundrette/
ATTACH;FMTTYPE=image/jpeg:https://trailkeeper.org/wp-content/uploads/2018/02/facebook_event_578230179177040.jpg
END:VEVENT
BEGIN:VEVENT
DTSTART;TZID=America/New_York:20180214T193000
DTEND;TZID=America/New_York:20180214T210000
DTSTAMP:20260424T115250
CREATED:20180208T213827Z
LAST-MODIFIED:20180208T213827Z
UID:6036-1518636600-1518642000@trailkeeper.org
SUMMARY:Native Mushrooms of Woods and Fields: Presentation
DESCRIPTION:Would you like to learn about our native mushrooms? Come hear a talk by Jim Barg at this month’s meeting of the Native Plant Society. \nAt this month’s meeting we will have Jim Barg of the NJ Mycological Society speak about Native Mushrooms in our area. \nJoin us at the Trail Conference headquarters for the monthly meeting of the Bergen-Passaic chapter of the Native Plant Society of New Jersey. We share information amoung native plant enthusiasts and have informative talks on native plants. \nMeetings are free and open to the public.
URL:https://trailkeeper.org/event/native-mushrooms-of-woods-and-fields-presentation/
ATTACH;FMTTYPE=image/jpeg:https://trailkeeper.org/wp-content/uploads/2018/02/facebook_event_407767842996336.jpg
END:VEVENT
BEGIN:VEVENT
DTSTART;TZID=America/New_York:20180215T180000
DTEND;TZID=America/New_York:20180329T210000
DTSTAMP:20260424T115250
CREATED:20180206T183643Z
LAST-MODIFIED:20180206T183643Z
UID:6028-1518717600-1522357200@trailkeeper.org
SUMMARY:Trivia Nights at Roscoe Beer Co!
DESCRIPTION:TRIVIA is BACKKKK! Yes\, we are as excited as you. Join us every Thursday for a night of laughs\, drinks & guaranteed fun! Trivia will be kicking off at 6pm every Thursday\, so get ready to think & drink. #triviaisback #thursdaysarefortrivia #trouttown #roscoeny
URL:https://trailkeeper.org/event/trivia-nights-at-roscoe-beer-co/
ATTACH;FMTTYPE=image/jpeg:https://trailkeeper.org/wp-content/uploads/2018/02/facebook_event_320114885060398.jpg
END:VEVENT
BEGIN:VEVENT
DTSTART;TZID=America/New_York:20180216T110000
DTEND;TZID=America/New_York:20180219T140000
DTSTAMP:20260424T115250
CREATED:20171222T163804Z
LAST-MODIFIED:20171222T163804Z
UID:5703-1518778800-1519048800@trailkeeper.org
SUMMARY:President's Day Weekend
DESCRIPTION:Frost Valley YMCA is a snow lover’s dream come true! With our cross-country ski trails\, ice skating rink\, snow tube run\, and snowshoe trails\,* your family will experience an idyllic winter weekend. We also offer ice fishing on Lake Cole\, broomball on Reflection Pond\, and guided nature hikes to High Falls and other scenic vistas. When you’re ready to move indoors\, try our climbing gym\, archery range\, or arts and crafts programs. Or cozy up next to the fire with a good book and some hot cocoa! Winter at Frost Valley will warm your heart! *Weather permitting. Snow tubes\, snowshoes\, and cross-country skis are provided.
URL:https://trailkeeper.org/event/presidents-day-weekend/
ATTACH;FMTTYPE=image/jpeg:https://trailkeeper.org/wp-content/uploads/2017/12/facebook_event_1964829067069269.jpg
END:VEVENT
BEGIN:VEVENT
DTSTART;TZID=America/New_York:20180216T200000
DTEND;TZID=America/New_York:20180217T213000
DTSTAMP:20260424T115250
CREATED:20180205T013948Z
LAST-MODIFIED:20180205T013948Z
UID:5986-1518811200-1518903000@trailkeeper.org
SUMMARY:Gypsy Layne Valentine Cabaret
DESCRIPTION:Gypsy Layne Cabaret & Co. is back in Hurleyville—and better than ever!—making February red-hot with their return to Hurleyville Arts Center. The Berkshires’ own homegrown cabaret & burlesque troupe has been conquering stages and stealing spotlights all across New England and beyond. The Gypsies are thrilled to be able to share their vivacious artistry\, unabashed body-positivity\, and outrageous charms with the Hurleyville Community!
URL:https://trailkeeper.org/event/gypsy-layne-valentine-cabaret/
ATTACH;FMTTYPE=image/jpeg:https://trailkeeper.org/wp-content/uploads/2018/02/facebook_event_1895197590790834.jpg
END:VEVENT
BEGIN:VEVENT
DTSTART;TZID=America/New_York:20180216T200000
DTEND;TZID=America/New_York:20180217T213000
DTSTAMP:20260424T115250
CREATED:20180206T213652Z
LAST-MODIFIED:20180206T213652Z
UID:6030-1518811200-1518903000@trailkeeper.org
SUMMARY:Gypsy Layne Cabaret
DESCRIPTION:Gypsy Layne Cabaret & Co. is back in Hurleyville—and better than ever!—making February red-hot with their return to Hurleyville Arts Center. The Berkshires’ own homegrown cabaret & burlesque troupe has been conquering stages and stealing spotlights all across New England and beyond. The Gypsies are thrilled to be able to share their vivacious artistry\, unabashed body-positivity\, and outrageous charms with the Hurleyville Community!
URL:https://trailkeeper.org/event/gypsy-layne-cabaret/
ATTACH;FMTTYPE=image/jpeg:https://trailkeeper.org/wp-content/uploads/2018/02/facebook_event_1765173863533174.jpg
END:VEVENT
BEGIN:VEVENT
DTSTART;TZID=America/New_York:20180217T100000
DTEND;TZID=America/New_York:20180218T170000
DTSTAMP:20260424T115250
CREATED:20180205T143629Z
LAST-MODIFIED:20180205T143629Z
UID:6002-1518861600-1518973200@trailkeeper.org
SUMMARY:President's Day Weekend Big Sale!
DESCRIPTION:Livingston Manor is a great place to shop on President’s Day Weekend – Specials and sales throughout the town!
URL:https://trailkeeper.org/event/presidents-day-weekend-big-sale/
ATTACH;FMTTYPE=image/jpeg:https://trailkeeper.org/wp-content/uploads/2018/02/facebook_event_1261765520634617.jpg
END:VEVENT
BEGIN:VEVENT
DTSTART;TZID=America/New_York:20180217T110000
DTEND;TZID=America/New_York:20180310T210000
DTSTAMP:20260424T115250
CREATED:20180112T163633Z
LAST-MODIFIED:20180112T163633Z
UID:5817-1518865200-1520715600@trailkeeper.org
SUMMARY:I Have a Dream - Talent Show
DESCRIPTION:Dream Tank presents the first ever “I Have a Dream” Talent show! Hosted by Bethel Woods Center for the Arts\, this talent show is designed to showcase Sullivan County’s Youth.  \nRegister for Auditions here: https://bit.ly/2Et2hfQ\nReserve your seat for the Main Event here: https://bit.ly/2CXdtnY
URL:https://trailkeeper.org/event/i-have-a-dream-talent-show/
ATTACH;FMTTYPE=image/jpeg:https://trailkeeper.org/wp-content/uploads/2018/01/facebook_event_2031130170494384.jpg
END:VEVENT
BEGIN:VEVENT
DTSTART;TZID=America/New_York:20180217T120000
DTEND;TZID=America/New_York:20180217T220000
DTSTAMP:20260424T115250
CREATED:20180119T003708Z
LAST-MODIFIED:20180119T003708Z
UID:5908-1518868800-1518904800@trailkeeper.org
SUMMARY:The Beer Garden at the Western Ballroom
DESCRIPTION:LIVE MUSIC * GAMES * DRINKS * FOOD * VENDORS \nJoin us on SATURDAY FEBRUARY 17th for our 1st indoor beer garden event in the Western Ballroom\, located on the 2nd floor of the Western Supper Club – Callicoon\, NY.  \n!!!NO COVER!!! \nDoors Open at 12PM/NOON\nFood Tent Hours 12PM -8PM\nBeer Tastings from 1PM – 3PM\nBeer Garden Bar Open 12PM – 10PM \nLIVE MUSIC\nMOUNTAIN WAVE 4PM – 6PM\nJUSTIN & MARK 6PM – 8PM  \nGAMES\nCORN HOLE * PING PONG * JENGA * DARTS  \nFOOD TENT\nBrats + Hots\nSauerkraut\nPretzels\nPerogies\nBeer Candied Bacon\nGerman Potato Salad  \nBEER GARDEN BAR\nVariety of Craft Beers\nHot Chocolate\nWine\nCider\nSignature Hot Toddy \nLet us know you are interested and come celebrate President’s Weekend at the Western Supper Club Ballroom- See You There!!
URL:https://trailkeeper.org/event/the-beer-garden-at-the-western-ballroom/
ATTACH;FMTTYPE=image/jpeg:https://trailkeeper.org/wp-content/uploads/2018/01/facebook_event_139111810091068.jpg
END:VEVENT
BEGIN:VEVENT
DTSTART;TZID=America/New_York:20180217T130000
DTEND;TZID=America/New_York:20180217T180000
DTSTAMP:20260424T115250
CREATED:20180204T183634Z
LAST-MODIFIED:20180204T183634Z
UID:5984-1518872400-1518890400@trailkeeper.org
SUMMARY:Eagle Celebration at the Cat
DESCRIPTION:Come celebrate the #Eagles of the Sullivan Catskills as we collaborate with Delaware Highlands Conservancy for a #Community #Party.  Learn about the Eagles\, Meet the #Photographers from teh Stray Cat Gallery and the folks at Delaware Highlands Conservancy – Enjoy the Live Music of Dennis Newberg and the Johnny Jules Band – Meet the Live #Birds of Prey with Brian William Bunce\, Falconer Take  #Chili and/or a Specialty #Cocktail and get warm by the #Bonfire! A #Winter Gathering at the foot of The Catskill Mountains!
URL:https://trailkeeper.org/event/eagle-celebration-at-the-cat/
ATTACH;FMTTYPE=image/jpeg:https://trailkeeper.org/wp-content/uploads/2018/02/facebook_event_381630175573808.jpg
END:VEVENT
BEGIN:VEVENT
DTSTART;TZID=America/New_York:20180217T140000
DTEND;TZID=America/New_York:20180218T153000
DTSTAMP:20260424T115250
CREATED:20180116T174305Z
LAST-MODIFIED:20180116T174305Z
UID:5857-1518876000-1518967800@trailkeeper.org
SUMMARY:Dirty Laundry: It All Comes Out in the Wash
DESCRIPTION:**DVAA’s 2018 Winter Salon Series is free for audiences thanks to the generous support of Larry and Shain Fishman.** \nAuthor\, photographer\, River Reporter columnist and self-proclaimed “Bon Vivant” Jonathan Charles Fox performs his new one-man show\, “Dirty Laundry: It All Comes Out in the Wash.” \nOn February 17 and 18 at 2 pm\, Fox will regale audiences with true stories culled from the dark recesses of his bedroom closet—from adventures in Las Vegas to alien abductions\, all with Dharma the Wonder Dog at his side.   \n“You will not be bored\,” Fox promised of his triumphant return to the mic as part of DVAA’s winter Salon Series. “I’ve been inundated with requests for more stories ever since my last one-man show. Now that I think about it\, I think they just wanted to meet the dog.” \nDVAA is located at 37 Main Street\, Narrowsburg\, NY\, and the event will take place on the second floor in the intimate Krause Recital Hall. Admission is free\, and donations are appreciated. Seating is limited and available on a first-come\, first-serve basis.  \n“I won’t be talking at the audience—I’ll be talking with the audience\,” Fox said. “Think of it as a conversation where I do most of the talking… and everyone gets to help me fold my laundry.” \nSpeaking of laundry\, audience members are invited to a post-show gathering at The Laundrette restaurant (20 5th Street\, Narrowsburg). \nThe rest of the free Salon Series includes a piano performance by Andrew Ranaudo and Nicole Brancato on February 24\, an artists’ talk on March 10\, and a screening of the film BOMBSHELL: The Hedy Lamarr Story on March 24. All events are free and take place at 2 pm in Krause Recital Hall. More information is available at delawarevalleyartsalliance.org.
URL:https://trailkeeper.org/event/dirty-laundry-it-all-comes-out-in-the-wash/
ATTACH;FMTTYPE=image/jpeg:https://trailkeeper.org/wp-content/uploads/2018/01/facebook_event_170135793595885.jpg
END:VEVENT
BEGIN:VEVENT
DTSTART;TZID=America/New_York:20180217T160000
DTEND;TZID=America/New_York:20180217T171500
DTSTAMP:20260424T115250
CREATED:20180205T143630Z
LAST-MODIFIED:20180205T143630Z
UID:6004-1518883200-1518887700@trailkeeper.org
SUMMARY:Beginners Guide To the Art of Belly Dance
DESCRIPTION:In this workshop\, we will learn the core movements of the exciting and ancient art of belly dance! Students will be taught how to undulate like a snake\, isolate the hips\, and of course the signature belly dance move: the shimmy! We will start with a standing warm up that will prepare the body for isolation and layering. During this class\, we will focus on executing movements with precision and strength with a focus on a healthy posture. This workshop is an introduction to belly dance\, so no prior dance experience is necessary.
URL:https://trailkeeper.org/event/beginners-guide-to-the-art-of-belly-dance/
ATTACH;FMTTYPE=image/jpeg:https://trailkeeper.org/wp-content/uploads/2018/02/facebook_event_185975382160373.jpg
END:VEVENT
BEGIN:VEVENT
DTSTART;TZID=America/New_York:20180217T200000
DTEND;TZID=America/New_York:20180217T235900
DTSTAMP:20260424T115250
CREATED:20180205T143631Z
LAST-MODIFIED:20180205T143631Z
UID:6006-1518897600-1518911940@trailkeeper.org
SUMMARY:Slam Allen at Oscar Brown's
DESCRIPTION:Slam Allen at Oscar Brown’s – Valentine’s Weekend! \nCome out of the cold and into Oscar Brown’s for some Hot Blues on February 17th! Slam is a national talent and Oscar Brown’s is Sullivan County’s up and coming venue. Together\, it’s going to be a special evening of Drinks\, Dining\, Music and You! \nStop by the restaurant or call us for tickets at 747-4337! \nA special food and drink menu will be available for this evening.
URL:https://trailkeeper.org/event/slam-allen-at-oscar-browns/
ATTACH;FMTTYPE=image/jpeg:https://trailkeeper.org/wp-content/uploads/2018/02/facebook_event_513032689052540.jpg
END:VEVENT
BEGIN:VEVENT
DTSTART;TZID=America/New_York:20180217T230000
DTEND;TZID=America/New_York:20180218T020000
DTSTAMP:20260424T115250
CREATED:20180212T163707Z
LAST-MODIFIED:20180212T163707Z
UID:6042-1518908400-1518919200@trailkeeper.org
SUMMARY:Soul City
DESCRIPTION:Soul City strike again.  Come and check the awesome new casino and all it has to offer\, at the same time listening to great music!!!
URL:https://trailkeeper.org/event/soul-city/
ATTACH;FMTTYPE=image/jpeg:https://trailkeeper.org/wp-content/uploads/2018/02/facebook_event_123291285154892.jpg
END:VEVENT
END:VCALENDAR