BEGIN:VCALENDAR
VERSION:2.0
PRODID:-//Trailkeeper.org | Hiking in New York | Sullivan County Catskills - ECPv6.6.4.2//NONSGML v1.0//EN
CALSCALE:GREGORIAN
METHOD:PUBLISH
X-WR-CALNAME:Trailkeeper.org | Hiking in New York | Sullivan County Catskills
X-ORIGINAL-URL:https://trailkeeper.org
X-WR-CALDESC:Events for Trailkeeper.org | Hiking in New York | Sullivan County Catskills
REFRESH-INTERVAL;VALUE=DURATION:PT1H
X-Robots-Tag:noindex
X-PUBLISHED-TTL:PT1H
BEGIN:VTIMEZONE
TZID:America/New_York
BEGIN:DAYLIGHT
TZOFFSETFROM:-0500
TZOFFSETTO:-0400
TZNAME:EDT
DTSTART:20180311T070000
END:DAYLIGHT
BEGIN:STANDARD
TZOFFSETFROM:-0400
TZOFFSETTO:-0500
TZNAME:EST
DTSTART:20181104T060000
END:STANDARD
END:VTIMEZONE
BEGIN:VEVENT
DTSTART;TZID=America/New_York:20180123T183000
DTEND;TZID=America/New_York:20180123T203000
DTSTAMP:20260422T063349
CREATED:20180119T003702Z
LAST-MODIFIED:20180119T003702Z
UID:5900-1516732200-1516739400@trailkeeper.org
SUMMARY:Search & Rescue Get Even!!!
DESCRIPTION:It’s very special evening with The Search & Rescue Orchestra. While Joanna’s away the boys will still play\, and they’ve invited some of their favorite divas and divos to join them for the evening. This is your chance to catch sampler of some of Sullivan County’s favorites. Joanna will be back next week\, rested and ready to rock ‘n’ roll. \nSo come out and join “The Greater Sullivan County Search and Rescue Orchestra” with Steven Schwartz\, Kenny Windheim\, Eric Nies\, Bobby C ; for more musical pants\, or rather “More Music by the Seat of Your Pants”. \nBring your family\, your friends\, your kazoos\, your appetite\, your beer preference\, your wallet\, your Lipitor\, all song requests\, dance\, sing\, and drink with Steve … Ok\, he doesn’t drink\, so you can have his… \nThe Brew has ample free parking. (if the lot is full park across the street at Bernie’s) simple American food\, and an amazing array of beer choices. No cover\, no minimum\, no problems!
URL:https://trailkeeper.org/event/search-rescue-get-even/
ATTACH;FMTTYPE=image/jpeg:https://trailkeeper.org/wp-content/uploads/2018/01/facebook_event_402167470222702.jpg
END:VEVENT
BEGIN:VEVENT
DTSTART;TZID=America/New_York:20180124T170000
DTEND;TZID=America/New_York:20180124T230000
DTSTAMP:20260422T063349
CREATED:20180116T174252Z
LAST-MODIFIED:20180116T174252Z
UID:5837-1516813200-1516834800@trailkeeper.org
SUMMARY:Cab'raoke Wednesdays are here again!
DESCRIPTION:“Hello world here’s a song that we’re singing Come on\, get happy A whole lotta lovin’ is what we’ll be bringing We’ll make you happy\, c’mon get SINGING!  Cabernet Frank hosts this funnest weekly karaoke
URL:https://trailkeeper.org/event/cabraoke-wednesdays-are-here-again/
ATTACH;FMTTYPE=image/jpeg:https://trailkeeper.org/wp-content/uploads/2018/01/facebook_event_138768626794323.jpg
END:VEVENT
BEGIN:VEVENT
DTSTART;TZID=America/New_York:20180124T180000
DTEND;TZID=America/New_York:20180124T210000
DTSTAMP:20260422T063349
CREATED:20180116T193714Z
LAST-MODIFIED:20180116T193714Z
UID:5875-1516816800-1516827600@trailkeeper.org
SUMMARY:Laundrette Quiz Nite
DESCRIPTION:
URL:https://trailkeeper.org/event/laundrette-quiz-nite/
ATTACH;FMTTYPE=image/jpeg:https://trailkeeper.org/wp-content/uploads/2018/01/facebook_event_176499282952797.jpg
END:VEVENT
BEGIN:VEVENT
DTSTART;TZID=America/New_York:20180125T190000
DTEND;TZID=America/New_York:20180125T220000
DTSTAMP:20260422T063349
CREATED:20180123T133638Z
LAST-MODIFIED:20180123T133638Z
UID:5918-1516906800-1516917600@trailkeeper.org
SUMMARY:Open Mic/Trivia with Robert Tellefsen
DESCRIPTION:Open Mic with Cab fave Robert Tellefsen.  And in between sets\, Frank offers trivia questions that awe and delight – music (naturally\,) sports\, politics\, pop culture\, history ….  Who’s up next on the Open Mic\, What question will he come up with next…
URL:https://trailkeeper.org/event/open-mic-trivia-with-robert-tellefsen/
ATTACH;FMTTYPE=image/jpeg:https://trailkeeper.org/wp-content/uploads/2018/01/facebook_event_189174128337313.jpg
END:VEVENT
BEGIN:VEVENT
DTSTART;TZID=America/New_York:20180126T193000
DTEND;TZID=America/New_York:20180128T184500
DTSTAMP:20260422T063349
CREATED:20180116T174253Z
LAST-MODIFIED:20180116T174253Z
UID:5839-1516995000-1517165100@trailkeeper.org
SUMMARY:Film Screening - The Greatest Showman
DESCRIPTION:Inspired by the imagination of P. T. Barnum\, The Greatest Showman is an original musical that celebrates the birth of show business & tells of a visionary who rose from nothing to create a spectacle that became a worldwide sensation.
URL:https://trailkeeper.org/event/film-screening-the-greatest-showman/
ATTACH;FMTTYPE=image/jpeg:https://trailkeeper.org/wp-content/uploads/2018/01/facebook_event_2021858031188021.jpg
END:VEVENT
BEGIN:VEVENT
DTSTART;TZID=America/New_York:20180127T100000
DTEND;TZID=America/New_York:20180127T130000
DTSTAMP:20260422T063349
CREATED:20171010T183659Z
LAST-MODIFIED:20171010T183659Z
UID:5228-1517047200-1517058000@trailkeeper.org
SUMMARY:Eagle Watch Bus Tour
DESCRIPTION:Learn about eagles and their habitat! \nLearn about eagles in our region\, how they returned from the brink of extinction\, and the habitat they need to thrive while you take a scenic drive with an expert guide on a heated bus and look for eagles. \nSeats are limited and reservations are required; call 570-226-3164\, 845-583-1010\, or email info@delawarehighlands.org to reserve your spot. \n$20 for non-members; $15 for members. \nDress warmly in layers and wear waterproof boots. Bring binoculars\, camera\, and snacks. \nSnow date: Sunday\, January 28th \nNote: Refunds are not issued for trips unless the trip is cancelled due to weather on both Saturday and Sunday.   \n Photo by Stephen Davis.
URL:https://trailkeeper.org/event/eagle-watch-bus-tour-5/
ATTACH;FMTTYPE=image/jpeg:https://trailkeeper.org/wp-content/uploads/2017/10/facebook_event_339849176476543.jpg
END:VEVENT
BEGIN:VEVENT
DTSTART;TZID=America/New_York:20180127T103000
DTEND;TZID=America/New_York:20180127T123000
DTSTAMP:20260422T063349
CREATED:20180116T174254Z
LAST-MODIFIED:20180116T174254Z
UID:5841-1517049000-1517056200@trailkeeper.org
SUMMARY:Doterra Essential Oils Class
DESCRIPTION:Come join us at to learn how essential oils can help you! this is an informational glass that teaches the basics about essential oils and how to get started integrating them into your life. Kirsten Sharo is here to walk you through everything and to answer any and all questions you have about oils. This class is also great for those who use essential oils of any brand and have questions or need guidance on what to do next.
URL:https://trailkeeper.org/event/doterra-essential-oils-class/
ATTACH;FMTTYPE=image/jpeg:https://trailkeeper.org/wp-content/uploads/2018/01/facebook_event_1584180341630788.jpg
END:VEVENT
BEGIN:VEVENT
DTSTART;TZID=America/New_York:20180127T120000
DTEND;TZID=America/New_York:20180127T200000
DTSTAMP:20260422T063349
CREATED:20180104T163626Z
LAST-MODIFIED:20180104T163626Z
UID:5743-1517054400-1517083200@trailkeeper.org
SUMMARY:Trout Town Winterfest
DESCRIPTION:Join us for our Third Annual Trout Town #WinterFest\, a great way to get out and enjoy the beauty of Winter in the #Catskills! This year we will have our ice carvers back doing live sculpting PLUS live music featuring Albi Beluli with Peter Florance and the New Kings playing 12-4pm and Hillbilly Parade starting at 4pm. There will be fun for the whole family with games\, horse drawn carriage rides\, snowshoeing & a snowman contest\, plus a large bonfire and hot coco to keep you warm. Stick around for the after party kicking off at 5pm!
URL:https://trailkeeper.org/event/trout-town-winterfest/
ATTACH;FMTTYPE=image/jpeg:https://trailkeeper.org/wp-content/uploads/2018/01/facebook_event_1875454436118765.jpg
END:VEVENT
BEGIN:VEVENT
DTSTART;TZID=America/New_York:20180127T123000
DTEND;TZID=America/New_York:20180127T140000
DTSTAMP:20260422T063349
CREATED:20180119T003703Z
LAST-MODIFIED:20180119T003703Z
UID:5902-1517056200-1517061600@trailkeeper.org
SUMMARY:Essential Oils for Emotions
DESCRIPTION:Winter got ya down?  Struggling with the after effects of the holidays?  Experiencing a life crisis?  Baby blues?  General stress or anxiety? The list goes on….we all struggle with managing our emotions!  Come learn some amazing mindfulness techniques\, breathing exercises\, and ways to use essential oils to get through those tough times.  This promises to be life changing!  Bring a friend and have some brunch.
URL:https://trailkeeper.org/event/essential-oils-for-emotions/
ATTACH;FMTTYPE=image/jpeg:https://trailkeeper.org/wp-content/uploads/2018/01/facebook_event_2030775183803977.jpg
END:VEVENT
BEGIN:VEVENT
DTSTART;TZID=America/New_York:20180127T130000
DTEND;TZID=America/New_York:20180127T170000
DTSTAMP:20260422T063349
CREATED:20180111T183707Z
LAST-MODIFIED:20180111T183707Z
UID:5809-1517058000-1517072400@trailkeeper.org
SUMMARY:The January PoP-Up at the Cat!
DESCRIPTION:Come share #CatskillCocktails with friends and family at the Catskill Distilling Company and find the Best Local Craftspeople for Browsing\, Meeting\, Drinking\, Eating and Shopping!  Always a Great Day with Great People!  The January List So Far:  Forestburgh General\, Giniece Noble-Painted Glassware\, Iris Alpaca\, Kilted Suds Scented Soaps\, Sacred Rose Visions (Tarot Reading)\, Marie Smith (Tanning) Zoe Valdez\, jewelry\, Kim Koukoulis\, Adrienne Butvinik (Wearable Hand Dyed Silks)  and More……!
URL:https://trailkeeper.org/event/the-january-pop-up-at-the-cat/
ATTACH;FMTTYPE=image/jpeg:https://trailkeeper.org/wp-content/uploads/2018/01/facebook_event_397583460698090.jpg
END:VEVENT
BEGIN:VEVENT
DTSTART;TZID=America/New_York:20180127T190000
DTEND;TZID=America/New_York:20180127T210000
DTSTAMP:20260422T063349
CREATED:20180116T174256Z
LAST-MODIFIED:20180116T174256Z
UID:5843-1517079600-1517086800@trailkeeper.org
SUMMARY:Intrigue of the Masquerade
DESCRIPTION:Join us for our second orchestral series of the year! The program will include two original arrangements done by music director Andrew Trombley.  \nA. Campra – Suite du “Carnaval de Venise” \nG. Faure Arr. Trombley – Masque et Bergamasque suite Op. 122\nArr. AndrewTrombley \nRavel Arr. Simpson – Pavane pour une infante défunte \nStravinsky/Pergolessi – Pulcinella Suite\nArr. Andrew Trombley \nTickets available at the door and online at:\n https://www.nesinculturalarts.org/event/sullivan-county-chamber-orchestra-presents-intrigue-of-the-masquerade/
URL:https://trailkeeper.org/event/intrigue-of-the-masquerade/
ATTACH;FMTTYPE=image/jpeg:https://trailkeeper.org/wp-content/uploads/2018/01/facebook_event_146009032769144.jpg
END:VEVENT
BEGIN:VEVENT
DTSTART;TZID=America/New_York:20180127T193000
DTEND;TZID=America/New_York:20180127T213000
DTSTAMP:20260422T063349
CREATED:20180117T153718Z
LAST-MODIFIED:20180117T153718Z
UID:5883-1517081400-1517088600@trailkeeper.org
SUMMARY:The Sara Hulse Band
DESCRIPTION:After hiatus\, Sara Hulse Band is back on track\, with Paul Mutzek returning on Bass and acoustic guitar. https://www.facebook.com/MsSaraEliza/
URL:https://trailkeeper.org/event/the-sara-hulse-band-2/
ATTACH;FMTTYPE=image/jpeg:https://trailkeeper.org/wp-content/uploads/2018/01/facebook_event_462482347482269.jpg
END:VEVENT
BEGIN:VEVENT
DTSTART;TZID=America/New_York:20180127T220000
DTEND;TZID=America/New_York:20180127T220000
DTSTAMP:20260422T063349
CREATED:20180123T133639Z
LAST-MODIFIED:20180123T133639Z
UID:5920-1517090400-1517090400@trailkeeper.org
SUMMARY:Hillbilly Parade!
DESCRIPTION:Come out for some great music 🎶\nHillbilly Parade will be in the house!
URL:https://trailkeeper.org/event/hillbilly-parade/
ATTACH;FMTTYPE=image/jpeg:https://trailkeeper.org/wp-content/uploads/2018/01/facebook_event_151152878877007.jpg
END:VEVENT
BEGIN:VEVENT
DTSTART;TZID=America/New_York:20180128T140000
DTEND;TZID=America/New_York:20180128T170000
DTSTAMP:20260422T063349
CREATED:20180125T144051Z
LAST-MODIFIED:20180125T144051Z
UID:5934-1517148000-1517158800@trailkeeper.org
SUMMARY:Yarnslingers
DESCRIPTION:Yarnslingers are people who tell fantastic stories. They will be at Cafe Adella Dori\, Main Street\, Callicoon on January 28th at 2pm reading aloud their short and true stories on the theme’Mother’. It’s FREE to attend. Please bring a photo of your mother to hang on the wall. This event will also celebrate the recent passing of Mary Gorrill\, mother to Kazzrie Jaxen.
URL:https://trailkeeper.org/event/yarnslingers/
ATTACH;FMTTYPE=image/jpeg:https://trailkeeper.org/wp-content/uploads/2018/01/facebook_event_698493887021543.jpg
END:VEVENT
BEGIN:VEVENT
DTSTART;TZID=America/New_York:20180129T180000
DTEND;TZID=America/New_York:20180129T200000
DTSTAMP:20260422T063349
CREATED:20180116T174257Z
LAST-MODIFIED:20180116T174257Z
UID:5845-1517248800-1517256000@trailkeeper.org
SUMMARY:Beginner Drop Spindle
DESCRIPTION:Come learn the ancient art of spinning wool with a drop spindle. We will provide roving wool and the spindle to work with in class. Instruction to make a drop spindle at home (super easy) and roving will be available for home spinning.\nWe have seating for 8 so class size is limited. Kits are $20 per person.\nThis class is suitable for ages 7+ with caregiver\, and adults\nJanuary 29\, 6p-8p 41 N. Main St\, Liberty\, NY
URL:https://trailkeeper.org/event/beginner-drop-spindle/
ATTACH;FMTTYPE=image/jpeg:https://trailkeeper.org/wp-content/uploads/2018/01/facebook_event_1375124922599721.jpg
END:VEVENT
BEGIN:VEVENT
DTSTART;TZID=America/New_York:20180129T190000
DTEND;TZID=America/New_York:20180129T220000
DTSTAMP:20260422T063349
CREATED:20180129T133909Z
LAST-MODIFIED:20180129T133909Z
UID:5944-1517252400-1517263200@trailkeeper.org
SUMMARY:Mom's Meatloaf Movie Mondays: The Blind Side (2009)
DESCRIPTION:The Blind Side (2009). Stars Sandra Bullock in her Academy Award winning role. Based on the remarkable true story of football player\, Michael Oher. \nEach week Henning’s Local screens favorite films about mothers\, from the unforgettable evil villains to classic characters who stole our hearts. In addition to our regular menu\, we offer a prix-fixed meatloaf dinner\, plus blue-plate specials at the bar. Bring mom\, and her dinner is on Henning. Dinner 5-10pm / Movie 7pm
URL:https://trailkeeper.org/event/moms-meatloaf-movie-mondays-the-blind-side-2009/
ATTACH;FMTTYPE=image/jpeg:https://trailkeeper.org/wp-content/uploads/2018/01/facebook_event_549861812039020.jpg
END:VEVENT
BEGIN:VEVENT
DTSTART;TZID=America/New_York:20180130T180000
DTEND;TZID=America/New_York:20180130T210000
DTSTAMP:20260422T063349
CREATED:20180108T193619Z
LAST-MODIFIED:20180108T193619Z
UID:5789-1517335200-1517346000@trailkeeper.org
SUMMARY:O&W Rail Trail Public Meeting
DESCRIPTION:Sullivan County could have 50+ miles of rail trail on which to enjoy a walk\, a bicycle ride\, even possibly riding a horse!  Come out to hear about it\, and get involved to help make it a reality!
URL:https://trailkeeper.org/event/ow-rail-trail-public-meeting/
ATTACH;FMTTYPE=image/jpeg:https://trailkeeper.org/wp-content/uploads/2018/01/facebook_event_1330211107085014.jpg
END:VEVENT
BEGIN:VEVENT
DTSTART;TZID=America/New_York:20180130T183000
DTEND;TZID=America/New_York:20180130T203000
DTSTAMP:20260422T063349
CREATED:20180116T174258Z
LAST-MODIFIED:20180116T174258Z
UID:5847-1517337000-1517344200@trailkeeper.org
SUMMARY:Joanna’s back... Let’s Get OdD!!!
DESCRIPTION:It’s once again it’s the OdD Tuesday with the same bunch of OdD characters…  \nThat’s right it’s “The Greater Sullivan County Search and Rescue Orchestra” with Steven Schwartz\, Kenny Windheim\, Eric Nies\, Bobby C\, and Joanna M Gass; back with more musical pants\, or rather “More Music by the Seat of Your Pants”. \nSo bring your family\, your friends\, your kazoos\, your appetite\, your beer preference\, your wallet\, your Lipitor\, all song requests\, dance\, sing\, and drink with me… Ok\, I don’t drink\, so you can have mine \nThe Brew has ample free parking. (if the lot is full park across the street at Bernie’s) simple American food\, and an amazing array of beer choices. No cover\, no minimum\, no problems!
URL:https://trailkeeper.org/event/joannas-back-lets-get-odd/
ATTACH;FMTTYPE=image/jpeg:https://trailkeeper.org/wp-content/uploads/2018/01/facebook_event_872039096312376.jpg
END:VEVENT
BEGIN:VEVENT
DTSTART;TZID=America/New_York:20180131T170000
DTEND;TZID=America/New_York:20180131T230000
DTSTAMP:20260422T063349
CREATED:20180116T174259Z
LAST-MODIFIED:20180116T174259Z
UID:5849-1517418000-1517439600@trailkeeper.org
SUMMARY:Time to Cab'raoke Wednesday
DESCRIPTION:Cabernet Frank hosts! Put on a feather boa and a top hat from the tickle trunk and sing in the most decadent Cab-raoke ever! And Sing! Sing a Song – to last the whole night long
URL:https://trailkeeper.org/event/time-to-cabraoke-wednesday/
ATTACH;FMTTYPE=image/jpeg:https://trailkeeper.org/wp-content/uploads/2018/01/facebook_event_1999405410318804.jpg
END:VEVENT
BEGIN:VEVENT
DTSTART;TZID=America/New_York:20180131T173000
DTEND;TZID=America/New_York:20180131T190000
DTSTAMP:20260422T063349
CREATED:20180123T233636Z
LAST-MODIFIED:20180123T233636Z
UID:5932-1517419800-1517425200@trailkeeper.org
SUMMARY:East Hudson Map Assembly
DESCRIPTION:Join us as we assemble our 2018 East Hudson map sets\, hot off the printer! \nFrom fact-checking in the field to assembling the map sets\, volunteers power the entire process with the help of our Trail Conference cartographer. We’re proud to have some of the best maps made by the people who build\, maintain\, and protect the trails. \nWant a sneak peak of our new 2018 East Hudson maps? Lend a hand in preparing them for store shelves! Join us for a night of talking trails\, bundling maps\, and giving back to the trails you love. \nSign up today!: bit.ly/tc-ehma18
URL:https://trailkeeper.org/event/east-hudson-map-assembly/
ATTACH;FMTTYPE=image/jpeg:https://trailkeeper.org/wp-content/uploads/2018/01/facebook_event_653313108172374.jpg
END:VEVENT
BEGIN:VEVENT
DTSTART;TZID=America/New_York:20180131T183000
DTEND;TZID=America/New_York:20180131T193000
DTSTAMP:20260422T063349
CREATED:20180119T003705Z
LAST-MODIFIED:20180119T003705Z
UID:5904-1517423400-1517427000@trailkeeper.org
SUMMARY:How to Defend Against Colds and Flus
DESCRIPTION:This lecture will focus on diet and lifestyle practices including; cooking techniques\, the energetics of food\, and the use of supplements and herbs to protect against and treat colds and flus.
URL:https://trailkeeper.org/event/how-to-defend-against-colds-and-flus/
ATTACH;FMTTYPE=image/jpeg:https://trailkeeper.org/wp-content/uploads/2018/01/facebook_event_1596786937036776.jpg
END:VEVENT
BEGIN:VEVENT
DTSTART;TZID=America/New_York:20180131T190000
DTEND;TZID=America/New_York:20180131T210000
DTSTAMP:20260422T063349
CREATED:20180131T124014Z
LAST-MODIFIED:20180131T124014Z
UID:5976-1517425200-1517432400@trailkeeper.org
SUMMARY:Laundrette Quiz Nite
DESCRIPTION:Same deal as last week! Come in a team if you can but solo people also welcome as we can slot you in with others easy enough.\nSeeing as how Team Laundrette won the first one\, we have decided to carry forward the prize money so this week the winners will get an $80 gift certificate.\nAlso we are going to have a second part to the quiz hosted by Steve Leamer who will be asking more “colorful” questions which sounds like a lot of fun.
URL:https://trailkeeper.org/event/laundrette-quiz-nite-2/
ATTACH;FMTTYPE=image/jpeg:https://trailkeeper.org/wp-content/uploads/2018/01/facebook_event_182944972303371.jpg
END:VEVENT
BEGIN:VEVENT
DTSTART;TZID=America/New_York:20180202T170000
DTEND;TZID=America/New_York:20180202T210000
DTSTAMP:20260422T063349
CREATED:20180131T183941Z
LAST-MODIFIED:20180131T183941Z
UID:5978-1517590800-1517605200@trailkeeper.org
SUMMARY:Happier Hours with Albi- Every Friday Night!
DESCRIPTION:Join us every Friday night starting at 5pm for HAPPIER Hours featuring live music with Albi Beluli! There will be $3 pints from 5-6pm and $4 pints 6-9pm\, plus we will be featuring Bashakill Vineyards wine and cider from Awestruck Ciders! So grab some friends and come down to the brewery for night of fun\, music kicks off at 6pm!
URL:https://trailkeeper.org/event/happier-hours-with-albi-every-friday-night-8/
ATTACH;FMTTYPE=image/jpeg:https://trailkeeper.org/wp-content/uploads/2018/01/facebook_event_154651681992764.jpg
END:VEVENT
BEGIN:VEVENT
DTSTART;TZID=America/New_York:20180202T190000
DTEND;TZID=America/New_York:20180202T220000
DTSTAMP:20260422T063349
CREATED:20180122T013640Z
LAST-MODIFIED:20180122T013640Z
UID:5914-1517598000-1517608800@trailkeeper.org
SUMMARY:Paint & Sip - It's Raining Cats OR Dogs!
DESCRIPTION:Friday Night SIP AND PAINT at the Distillery\nIt’s Raining Cats Or Dogs!\nWith Portrayal Paint Parties and Anna Sawyer\nFriday\, February 2nd – 7pm $35.00\nE-Mail to ReSeRvE your SpAcE NoW\nAnnaSawyer@PortrayalPainting.com or Stacy@DancingCatSaloon.com\n$6.00 Catskill Chili and Specialty Catskill Cocktails start at 5:00  Register by 6:30
URL:https://trailkeeper.org/event/paint-sip-its-raining-cats-or-dogs/
ATTACH;FMTTYPE=image/jpeg:https://trailkeeper.org/wp-content/uploads/2018/01/facebook_event_929925033852371.jpg
END:VEVENT
BEGIN:VEVENT
DTSTART;TZID=America/New_York:20180202T193000
DTEND;TZID=America/New_York:20180211T200000
DTSTAMP:20260422T063349
CREATED:20180129T013759Z
LAST-MODIFIED:20180129T013759Z
UID:5942-1517599800-1518379200@trailkeeper.org
SUMMARY:Film Screening - Three Billboards Outside Ebbing\, Missouri
DESCRIPTION:After months have passed without a culprit in her daughter’s murder case\, Mildred Hayes makes a bold move\, painting three signs leading into her town with a controversial message directed at William Willoughby\, the town’s revered chief of police. When his second-in-command\, Officer Dixon — an immature mother’s boy with a penchant for violence — gets involved\, the battle is only exacerbated.
URL:https://trailkeeper.org/event/film-screening-three-billboards-outside-ebbing-missouri/
ATTACH;FMTTYPE=image/jpeg:https://trailkeeper.org/wp-content/uploads/2018/01/facebook_event_1949193021788037.jpg
END:VEVENT
BEGIN:VEVENT
DTSTART;TZID=America/New_York:20180202T210000
DTEND;TZID=America/New_York:20180203T010000
DTSTAMP:20260422T063349
CREATED:20180121T013701Z
LAST-MODIFIED:20180121T013701Z
UID:5912-1517605200-1517619600@trailkeeper.org
SUMMARY:Oscar Brown's Dance Party!
DESCRIPTION:Oscar Brown’s Dance Party! Come out to Oscar Brown’s and dance the night away as DJ Nick plays the best dance music\, requests welcome! \nDrink specials & happy hour pricing! Enjoy our new beer on tap! \n$5 cover\, 18 and over only
URL:https://trailkeeper.org/event/oscar-browns-dance-party/
ATTACH;FMTTYPE=image/jpeg:https://trailkeeper.org/wp-content/uploads/2018/01/facebook_event_136519067008629.jpg
END:VEVENT
BEGIN:VEVENT
DTSTART;TZID=America/New_York:20180203T090000
DTEND;TZID=America/New_York:20180203T160000
DTSTAMP:20260422T063349
CREATED:20171211T153635Z
LAST-MODIFIED:20171211T153635Z
UID:5633-1517648400-1517673600@trailkeeper.org
SUMMARY:FlyFest sponsored by Catskill Flies
DESCRIPTION:The 13th Annual FlyFest is sponsored by Catskill Flies of Roscoe! FlyFest marks the middle of winter\, the re-opening of CFFCM from our winter break and will be the first event of 2018.  Come join us on Saturday February 3\, 2018 from 9:00 a.m. to 4:00 p.m in the Wulff Gallery\, the event is open to the public and admission is $5.00. This is a great opportunity to tie flies with a group and gear up for the up-coming season. Nothing formal\, it’s a gathering of tyers from all over\, both inside and outside of the immediate area. It is a chance to tie\, socialize and have an another look at the exhibits.For those needing an outing after being cooped up in the house\, this is a sure cure for the winter doldrums. It’s also a reminder that whether or not the groundhog saw his shadow a day earlier\, there are only a few months before the new trout season begins in New York! Tyers should contact coordinator Rick Fischer at fischington@hotmail.com\, CFFCM at office@cffcm.com or Catskill Flies at flyshop@catskillflies.com or 607-498-6146. ​
URL:https://trailkeeper.org/event/flyfest-sponsored-by-catskill-flies/
ATTACH;FMTTYPE=image/jpeg:https://trailkeeper.org/wp-content/uploads/2017/12/facebook_event_133634903976533.jpg
END:VEVENT
BEGIN:VEVENT
DTSTART;TZID=America/New_York:20180203T100000
DTEND;TZID=America/New_York:20180203T130000
DTSTAMP:20260422T063349
CREATED:20171010T183700Z
LAST-MODIFIED:20171010T183700Z
UID:5230-1517652000-1517662800@trailkeeper.org
SUMMARY:Eagle Watch Bus Tour
DESCRIPTION:Learn about eagles and their habitat! \nLearn about eagles in our region\, how they returned from the brink of extinction\, and the habitat they need to thrive while you take a scenic drive with an expert guide on a heated bus and look for eagles. \nSeats are limited and reservations are required; call 570-226-3164\, 845-583-1010\, or email info@delawarehighlands.org to reserve your spot. \n$20 for non-members; $15 for members. \nDress warmly in layers and wear waterproof boots. Bring binoculars\, camera\, and snacks. \nSnow date: Sunday\, February 4th \nNote: Refunds are not issued for trips unless the trip is cancelled due to weather on both Saturday and Sunday.   \n Photo by Stephen Davis.
URL:https://trailkeeper.org/event/eagle-watch-bus-tour-6/
ATTACH;FMTTYPE=image/jpeg:https://trailkeeper.org/wp-content/uploads/2017/10/facebook_event_286395928529517.jpg
END:VEVENT
BEGIN:VEVENT
DTSTART;TZID=America/New_York:20180203T100000
DTEND;TZID=America/New_York:20180203T140000
DTSTAMP:20260422T063349
CREATED:20171228T153637Z
LAST-MODIFIED:20171228T153637Z
UID:5729-1517652000-1517666400@trailkeeper.org
SUMMARY:Eagle Photo Workshop Bus Tour
DESCRIPTION:Learn to take photos of eagles and their habitat! \nOn this special bus tour\, you’ll learn about eagles in our region\, how they returned from the brink of extinction\, and the habitat they need to thrive while you take a scenic drive on a heated bus and look for eagles. Local photographer Sandy Long (Heron’s Eye Communications) will also provide instruction on taking great photos of eagles and their habitat\, and the Conservancy’s Land Protection Associate Avery Siler will give a brief presentation on art history and the conservation movement. \nBus tour participants are invited (but not required) to submit their photos to the Conservancy’s winter 2018 photo contest\, Sharing Space: Eagles and Their Environs (https://www.delawarehighlands.org/photo-contest/). \nSeats are limited and reservations are required; call 570-226-3164\, 845-583-1010\, or email info@delawarehighlands.org to reserve your spot and receive directions to the meeting location in Milford\, PA. \n$25 for non-members; $20 for members. \nDress warmly in layers and wear waterproof boots. Bring binoculars\, camera\, and snacks. \nSnow date: Sunday\, February 4th\nNote: Refunds are not issued for trips unless the trip is cancelled due to weather on both Saturday and Sunday.
URL:https://trailkeeper.org/event/eagle-photo-workshop-bus-tour/
ATTACH;FMTTYPE=image/jpeg:https://trailkeeper.org/wp-content/uploads/2017/12/facebook_event_763120910540087.jpg
END:VEVENT
BEGIN:VEVENT
DTSTART;TZID=America/New_York:20180203T130000
DTEND;TZID=America/New_York:20180203T160000
DTSTAMP:20260422T063349
CREATED:20180104T163627Z
LAST-MODIFIED:20180104T163627Z
UID:5745-1517662800-1517673600@trailkeeper.org
SUMMARY:Artist Talk and Exhibition Preview - Mark Cannariato
DESCRIPTION:At CAS Arts Center\, 48 Main Street\, Livingston Manor\nFebruary 3 – March 17\, 2018 \nArtists Talk and Opening Reception\nSaturday\, February 3\, 2018 \nArtists Talk 1pm\nOpening Reception 2-4pm
URL:https://trailkeeper.org/event/artist-talk-and-exhibition-preview-mark-cannariato/
ATTACH;FMTTYPE=image/jpeg:https://trailkeeper.org/wp-content/uploads/2018/01/facebook_event_141238216549558.jpg
END:VEVENT
END:VCALENDAR